View In:
ArcGIS JavaScript
ArcGIS Online Map Viewer
ArcGIS Earth
Service Description: Bruk geografisk seleksjon i kart og velg jordskiftesak eller velg jordskiftesak direkte via utvalg fra saksnummer-kolonnen.
Name: VGIS/VGIS_Jordskiftekart
Description: Bruk geografisk seleksjon i kart og velg jordskiftesak eller velg jordskiftesak direkte via utvalg fra saksnummer-kolonnen.
Single Fused Map Cache: false
Extent:
XMin: 446815.0020000323
YMin: 6698328.232000019
XMax: 556646.0089999873
YMax: 6812505.008999973
Spatial Reference: 25832
(25832)
Initial Extent:
XMin: 446815.0020000323
YMin: 6698328.232000019
XMax: 556646.0089999873
YMax: 6812505.008999973
Spatial Reference: 25832
(25832)
Full Extent:
XMin: 446815.0020000323
YMin: 6698328.232000019
XMax: 556646.0089999873
YMax: 6812505.008999973
Spatial Reference: 25832
(25832)
Pixel Size X: 0.012999999999994672
Pixel Size Y: 0.012999999999994672
Band Count: 3
Pixel Type: U8
RasterFunction Infos: {"rasterFunctionInfos": [{
"name": "None",
"description": "Make a Raster or Raster Dataset into a Function Raster Dataset.",
"help": ""
}]}
Mensuration Capabilities:
Inspection Capabilities:
Has Histograms: true
Has Colormap: false
Has Multi Dimensions : false
Rendering Rule:
Min Scale: 0
Max Scale: 0
Copyright Text:
Service Data Type: esriImageServiceDataTypeRGB
Min Values: 0, 0, 0
Max Values: 255, 255, 255
Mean Values: 193.97212583588438, 182.91477353677777, 164.22121469770096
Standard Deviation Values: 41.25449122563849, 42.31216301600867, 43.203917163959275
Object ID Field: OBJECTID
Fields:
-
OBJECTID
(
type: esriFieldTypeOID, alias: OBJECTID
)
-
Shape
(
type: esriFieldTypeGeometry, alias: Shape
)
-
Name
(
type: esriFieldTypeString, alias: Name, length: 200
)
-
MinPS
(
type: esriFieldTypeDouble, alias: MinPS
)
-
MaxPS
(
type: esriFieldTypeDouble, alias: MaxPS
)
-
LowPS
(
type: esriFieldTypeDouble, alias: LowPS
)
-
HighPS
(
type: esriFieldTypeDouble, alias: HighPS
)
-
Category
(
type: esriFieldTypeInteger, alias: Category
, Coded Values:
[0: Unknown]
, [1: Primary]
, [2: Overview]
, ...6 more...
)
-
omradeid
(
type: esriFieldTypeString, alias: omradeid, length: 512
)
-
kommune
(
type: esriFieldTypeString, alias: kommune, length: 512
)
-
fylkeid
(
type: esriFieldTypeString, alias: fylkeid, length: 512
)
-
fylke
(
type: esriFieldTypeString, alias: fylke, length: 512
)
-
Saksnummer
(
type: esriFieldTypeString, alias: Saksnummer, length: 20
)
Default Mosaic Method: Center
Allowed Mosaic Methods: Center,NorthWest,Nadir,LockRaster,ByAttribute,Seamline,None
SortField:
SortValue: null
Mosaic Operator: First
Default Compression Quality: 90
Default Resampling Method: Bilinear
Max Record Count: 150
Max Image Height: 4000
Max Image Width: 4000
Max Download Image Count: 150
Max Mosaic Image Count: 20
Allow Raster Function: true
Allow Copy: true
Allow Analysis: true
Allow Compute TiePoints: false
Supports Statistics: true
Supports Advanced Queries: true
Use StandardizedQueries: true
Raster Type Infos:
Name: Raster Dataset
Description: Supports all ArcGIS Raster Datasets
Help:
Has Raster Attribute Table: false
Edit Fields Info: null
Ownership Based AccessControl For Rasters: null
Child Resources:
Info
Histograms
Statistics
Key Properties
Legend
Raster Function Infos
Supported Operations:
Export Image
Query
Identify
Measure
Compute Histograms
Compute Statistics Histograms
Get Samples
Compute Class Statistics
Query GPS Info
Find Images
Image to Map
Map to Image
Measure from Image
Image to Map Multiray
Query Boundary
Compute Pixel Location
Compute Angles
Validate
Project