{ "currentVersion": 11.3, "serviceDescription": "
Bruk geografisk seleksjon i kart og velg jordskiftesak eller velg jordskiftesak<\/SPAN> direkte via utvalg fra<\/SPAN> saksnummer-kolonnen.<\/SPAN><\/P><\/DIV><\/DIV><\/DIV>",
"name": "VGIS/VGIS_Jordskiftekart",
"description": " Bruk geografisk seleksjon i kart og velg jordskiftesak eller velg jordskiftesak<\/SPAN> direkte via utvalg fra<\/SPAN> saksnummer-kolonnen.<\/SPAN><\/P><\/DIV><\/DIV><\/DIV>",
"extent": {
"xmin": 446815.0020000323,
"ymin": 6698328.232000019,
"xmax": 556646.0089999873,
"ymax": 6812505.008999973,
"spatialReference": {
"wkid": 25832,
"latestWkid": 25832
}
},
"initialExtent": {
"xmin": 446815.0020000323,
"ymin": 6698328.232000019,
"xmax": 556646.0089999873,
"ymax": 6812505.008999973,
"spatialReference": {
"wkid": 25832,
"latestWkid": 25832
}
},
"fullExtent": {
"xmin": 446815.0020000323,
"ymin": 6698328.232000019,
"xmax": 556646.0089999873,
"ymax": 6812505.008999973,
"spatialReference": {
"wkid": 25832,
"latestWkid": 25832
}
},
"sortableFields": "",
"bandCount": 3,
"pixelType": "U8",
"minValues": [
0,
0,
0
],
"maxValues": [
255,
255,
255
],
"meanValues": [
193.97212583588438,
182.91477353677777,
164.22121469770096
],
"stdvValues": [
41.25449122563849,
42.31216301600867,
43.203917163959275
],
"hasMultidimensions": false,
"pixelSizeX": 0.012999999999994672,
"pixelSizeY": 0.012999999999994672,
"meanPixelSize": 0.012999999999994672,
"datasetFormat": "AMD",
"uncompressedSize": 222606220010493,
"blockWidth": 2048,
"blockHeight": 256,
"compressionType": "None",
"bandNames": [
"Band_1",
"Band_2",
"Band_3"
],
"allowCopy": true,
"allowAnalysis": true,
"itemAccess": false,
"inspectionCapabilities": "",
"minPixelSize": 0,
"maxPixelSize": 0,
"copyrightText": "",
"serviceDataType": "esriImageServiceDataTypeRGB",
"serviceSourceType": "esriImageServiceSourceTypeMosaicDataset",
"objectIdField": "OBJECTID",
"fields": [
{
"name": "OBJECTID",
"type": "esriFieldTypeOID",
"alias": "OBJECTID",
"domain": null
},
{
"name": "Shape",
"type": "esriFieldTypeGeometry",
"alias": "Shape",
"domain": null
},
{
"name": "Name",
"type": "esriFieldTypeString",
"alias": "Name",
"domain": null,
"length": 200
},
{
"name": "MinPS",
"type": "esriFieldTypeDouble",
"alias": "MinPS",
"domain": null
},
{
"name": "MaxPS",
"type": "esriFieldTypeDouble",
"alias": "MaxPS",
"domain": null
},
{
"name": "LowPS",
"type": "esriFieldTypeDouble",
"alias": "LowPS",
"domain": null
},
{
"name": "HighPS",
"type": "esriFieldTypeDouble",
"alias": "HighPS",
"domain": null
},
{
"name": "Category",
"type": "esriFieldTypeInteger",
"alias": "Category",
"domain": {
"type": "codedValue",
"name": "MosaicCatalogItemCategoryDomain",
"description": "Catalog item categories.",
"codedValues": [
{
"name": "Unknown",
"code": 0
},
{
"name": "Primary",
"code": 1
},
{
"name": "Overview",
"code": 2
},
{
"name": "Unprocessed Overview",
"code": 3
},
{
"name": "Partial Overview",
"code": 4
},
{
"name": "Inactive",
"code": 5
},
{
"name": "Uploaded",
"code": 253
},
{
"name": "Incomplete",
"code": 254
},
{
"name": "Custom",
"code": 255
}
],
"mergePolicy": "esriMPTDefaultValue",
"splitPolicy": "esriSPTDefaultValue"
}
},
{
"name": "omradeid",
"type": "esriFieldTypeString",
"alias": "omradeid",
"domain": null,
"length": 512
},
{
"name": "kommune",
"type": "esriFieldTypeString",
"alias": "kommune",
"domain": null,
"length": 512
},
{
"name": "fylkeid",
"type": "esriFieldTypeString",
"alias": "fylkeid",
"domain": null,
"length": 512
},
{
"name": "fylke",
"type": "esriFieldTypeString",
"alias": "fylke",
"domain": null,
"length": 512
},
{
"name": "Saksnummer",
"type": "esriFieldTypeString",
"alias": "Saksnummer",
"domain": null,
"length": 20
}
],
"capabilities": "Image,Metadata,Catalog,Mensuration",
"defaultMosaicMethod": "Center",
"allowedMosaicMethods": "Center,NorthWest,Nadir,LockRaster,ByAttribute,Seamline,None",
"sortField": "",
"sortValue": null,
"sortAscending": true,
"mosaicOperator": "First",
"maxDownloadSizeLimit": 2048,
"defaultCompressionQuality": 90,
"defaultResamplingMethod": "Bilinear",
"maxImageHeight": 4000,
"maxImageWidth": 4000,
"maxRecordCount": 150,
"maxDownloadImageCount": 150,
"maxMosaicImageCount": 20,
"allowRasterFunction": true,
"rasterFunctionInfos": [
{
"name": "None",
"description": "Make a Raster or Raster Dataset into a Function Raster Dataset.",
"help": ""
}
],
"rasterTypeInfos": [
{
"name": "Raster Dataset",
"description": "Supports all ArcGIS Raster Datasets",
"help": ""
}
],
"mensurationCapabilities": "",
"hasHistograms": true,
"hasColormap": false,
"hasRasterAttributeTable": false,
"minScale": 0,
"maxScale": 0,
"exportTilesAllowed": false,
"supportsStatistics": true,
"supportsAdvancedQueries": true,
"editFieldsInfo": null,
"ownershipBasedAccessControlForRasters": null,
"allowComputeTiePoints": false,
"useStandardizedQueries": true,
"advancedQueryCapabilities": {
"useStandardizedQueries": true,
"supportsStatistics": true,
"supportsOrderBy": true,
"supportsDistinct": true,
"supportsPagination": true
},
"spatialReference": {
"wkid": 25832,
"latestWkid": 25832
}
}